{"text_format":"1","workbook":"xlsx","n_sheets":5,"sheets":["入力シート","申請書(指)","インポートシート","リストシート","データチェック"],"not_rendered":{"charts":0,"images":0,"macros":1,"external_links":3,"defined_names":43,"comments":0,"pivot_tables":0},"unopened":[],"bounds":{"document_bytes":16777216,"sheet_cells":100000,"rows_first":2000,"rows_last":500,"rows_between":2000,"halvings":0,"cell_chars":16384,"cell_head_chars":4096},"cells_cut":0,"cells_raw":0,"read":"whole","date_system":"1900"}

{"sheet":"入力シート","index":0,"n_rows":39,"n_cols":5,"rows_kept":39,"cut":false,"hidden":false,"merged":[[35,0,37,0],[33,0,34,0],[19,0,21,0],[25,0,26,0],[23,0,24,0],[28,0,29,0],[31,0,32,0]]}
["「しずおかスポーツ人材バンク」指導者登録申請書 入力シート"]
[null,"※色の欄に入力ください"]
[]
["No","項目","入力欄",null,"入力方法"]
[1,"氏名",null,null,"※文字入力"]
[2,"フリガナ",null,null,"※文字入力"]
[3,"性別",null,null,"※プルダウンから選択"]
[4,"生年（西暦）",null,null,"※「選択」ボタンを押下後、「生年」を選択"]
[5,"郵便番号",null,null,"※半角英数字入力"]
[6,"住所１（市区町）",null,null,"※文字入力"]
[7,"住所２（それ以降）",null,null,"※文字入力"]
[8,"住所３（それ以降）",null,null,"※文字入力"]
[9,"自宅電話番号",null,null,"※文字入力"]
[10,"携帯電話番号",null,null,"※文字入力"]
[11,"Ｅ-mailｱﾄﾞﾚｽ",null,null,"※文字入力"]
[12,"勤務先",null,null,"※文字入力"]
[13,"競技名",null,null,"※「選択」ボタンを押下後、該当する項目を選択"]
[14,"競技歴",null,null,"※文字入力"]
[15,"主な指導歴",null,null,"※文字入力"]
[16,"所有指導資格",null,null,"※「選択」ボタンを押下後、該当する項目を選択"]
[null,"公認指導者《指導者番号》",null,null,"※半角数字入力"]
[null,"公認指導者《有効期限》",null,null,"※入力例　2019/11/1\n※半角英数字入力"]
[17,"指導に関するＰＲ",null,null,"※文字入力"]
[18,"職業",null,null,"※プルダウンから選択"]
[null,"職業《その他》",null,null,"※プルダウンの選択項目に該当するものがない場合\n　 その他として、職業をご記入ください。\n※文字入力"]
[19,"その他の資格",null,null,"※「選択」ボタンを押下後、該当する項目を選択"]
[null,"その他の資格《その他》",null,null,"※選択項目に該当するものがない場合\n　 その他として、資格名をご記入ください。\n※文字入力"]
[20,"指導可能対象"]
[21,"指導可能区分"]
[null,"指導可能区分《その他》",null,null,"※選択項目に該当するものがない場合\n　 その他として、資格名をご記入ください。\n※文字入力"]
[22,"指導可能日時",null,null,"※指導が可能な時間帯にチェックをしてください。\n １：全日 ２：午前  ３：午後 ４：夜間"]
[23,"指導可能地域",null,null,"※プルダウンから選択"]
[null,"指導可能地域《その他》",null,null,"※選択項目に該当するものがない場合\n　 その他として、指導可能地域をご記入ください。\n※文字入力"]
[24,"報酬の希望等",null,null,"※プルダウンから選択"]
[null,"謝金を希望する場合\n1時間あたりの金額",null,null,"※半角数字入力"]
[25,"登録認定要件"]
[null,"登録認定要件\n《研修会名》",null,null,"※文字入力"]
[null,"登録認定要件\n《受講日》",null,null,"※入力例　2019/11/1\n※半角英数字入力"]
[26,"情報公開への承諾"]

{"sheet":"申請書(指)","index":1,"n_rows":79,"n_cols":13,"rows_kept":79,"cut":false,"hidden":false,"merged":[[27,0,28,0],[24,0,26,0],[18,0,19,0],[16,0,17,0],[20,0,21,0],[22,0,23,0],[28,4,28,12],[62,9,62,10],[63,9,63,10],[57,0,63,0],[57,9,57,10],[55,0,55,1],[55,2,55,3],[55,4,55,5],[55,6,55,8],[57,1,57,5],[57,6,57,8],[50,9,50,12],[51,9,51,12],[52,9,52,12],[45,0,52,0],[47,2,47,3],[46,2,46,3],[45,2,45,3],[67,0,67,2],[68,0,68,2],[67,6,67,7],[68,6,68,7],[66,3,66,11],[66,0,66,2],[62,6,62,8],[63,6,63,8],[58,1,58,5],[59,1,59,5],[60,1,60,5],[61,1,61,5],[62,1,62,5],[63,1,63,5],[58,6,58,8],[59,6,59,8],[60,6,60,8],[61,6,61,8],[58,9,58,10],[59,9,59,10],[60,9,60,10],[61,9,61,10],[48,9,48,12],[49,9,49,12],[43,9,43,10],[43,11,43,12],[45,4,45,5],[46,4,46,5],[47,4,47,5],[45,6,45,8],[45,9,45,12],[46,9,46,12],[47,9,47,12],[43,0,43,1],[43,2,43,3],[43,4,43,5],[43,6,43,8],[51,6,51,8],[52,6,52,8],[50,6,50,8],[49,6,49,8],[48,6,48,8],[47,6,47,8],[46,6,46,8],[48,4,48,5],[49,4,49,5],[50,4,50,5],[51,4,51,5],[52,4,52,5],[51,2,51,3],[52,2,52,3],[48,2,48,3],[49,2,49,3],[50,2,50,3],[42,7,42,9],[42,5,42,6],[37,1,37,12],[38,1,38,12],[39,1,39,12],[31,1,31,2],[34,1,34,12],[35,1,35,12],[36,1,36,12],[31,3,31,12],[32,3,32,4],[33,3,33,4],[32,5,32,12],[33,5,33,12],[32,1,33,2],[27,1,27,2],[27,3,27,12],[29,1,29,2],[29,3,29,12],[30,1,30,2],[24,1,24,2],[25,1,25,2],[25,6,25,7],[26,1,26,2],[26,6,26,7],[30,3,30,4],[30,5,30,6],[24,6,24,7],[22,1,22,2],[22,3,22,12],[23,1,23,2],[19,1,19,2],[20,1,20,2],[20,3,20,12],[21,1,21,2],[19,4,19,12],[23,4,23,12],[16,1,16,2],[16,3,16,12],[17,1,17,2],[18,1,18,2],[18,3,18,12],[12,1,12,2],[13,1,13,2],[14,1,14,2],[17,4,17,12],[12,3,14,12],[3,10,3,12],[4,1,4,2],[4,3,4,6],[4,8,4,9],[4,10,4,12],[9,1,9,2],[9,3,9,12],[10,1,10,2],[11,1,11,2],[7,1,7,2],[7,3,7,6],[7,8,7,9],[7,10,7,12],[8,1,8,2],[8,3,8,6],[8,8,8,9],[8,10,8,12],[11,9,11,10],[11,3,11,7],[10,3,10,12],[78,0,80,0],[78,1,80,12],[0,0,0,1],[0,2,0,11],[2,1,2,2],[2,3,2,6],[2,8,2,9],[2,10,2,12],[1,8,1,9],[1,10,1,12],[71,2,71,5],[42,0,42,1],[42,2,42,4],[5,1,5,2],[5,3,5,6],[5,8,5,9],[5,10,5,12],[6,1,6,2],[6,3,6,6],[6,8,6,9],[6,10,6,12],[3,1,3,2],[3,3,3,6],[3,8,3,9],[71,6,71,8],[71,9,71,12],[72,2,72,5],[73,2,73,5],[74,2,74,5],[75,2,75,5],[76,2,76,5],[72,6,72,8],[73,6,73,8],[74,6,74,8],[75,6,75,8],[76,6,76,8],[72,9,72,12],[73,9,73,12],[74,9,74,12],[75,9,75,12],[76,9,76,12]]}
["取扱注意",null,"「しずおかスポーツ人材バンク」指導者登録申請書"]
["提出日",null,null,"　　　　 年　　 月　　 日",null,null,null,null,"認定番号",null,{"$f":"IF(H43=0,\" \",H43)","v":" "}]
[1,"氏名",null,{"$f":"入力シート!C5&\"\"","v":""},null,null,null,2,"フリガナ",null,{"$f":"入力シート!C6&\"\"","v":""}]
[3,"性別",null,{"$f":"入力シート!C7&\"\"","v":""},null,null,null,4,"生年（西暦）",null,{"$f":"入力シート!C8&\"\"","v":""}]
[5,"郵便番号",null,{"$f":"入力シート!C9&\"\"","v":""},null,null,null,6,"住所１（市区町）",null,{"$f":"入力シート!C10","v":0}]
[7,"住所２（それ以降）",null,{"$f":"入力シート!C11","v":0},null,null,null,8,"住所３（それ以降）",null,{"$f":"入力シート!C12","v":0}]
[9,"自宅電話番号",null,{"$f":"入力シート!C13&\"\"","v":""},null,null,null,10,"携帯電話番号",null,{"$f":"入力シート!C14&\"\"","v":""}]
[11,"Ｅ-mailｱﾄﾞﾚｽ",null,{"$f":"入力シート!C15&\"\"","v":""},null,null,null,12,"勤務先",null,{"$f":"入力シート!C16&\"\"","v":""}]
[13,"競技名",null,{"$f":"入力シート!C17&\"\"","v":""},null,null,null,14,"競技歴",null,{"$f":"入力シート!C18&\"\"","v":""}]
[15,"主な指導歴",null,{"$f":"入力シート!C19&\"\"","v":""}]
[16,"所有指導資格",null,{"$f":"入力シート!C20","v":0}]
[null,"＊公認指導者",null,null,null,null,null,null,"指導者番号：",{"$f":"入力シート!C21","v":0},null,"有効期限：",{"$f":"入力シート!C22","v":"00:00:00"}]
[17,"指導に関するＰＲ",null,{"$f":"入力シート!C23","v":0}]
[]
[]
[]
[18,"職業",null,{"$f":"入力シート!C24&\"\"","v":""}]
[null,null,null,"その他：",{"$f":"入力シート!C25","v":0}]
[19,"その他の資格",null,{"$f":"入力シート!C26","v":0}]
[null,null,null,"その他：",{"$f":"入力シート!C27","v":0}]
[20,"指導可能対象",null,{"$f":"入力シート!C28","v":0}]
[]
[21,"指導可能区分",null,{"$f":"入力シート!C29","v":0}]
[null,null,null,"その他：",{"$f":"入力シート!C30","v":0}]
[22,"指導可能日時",null,"月曜","火曜","水曜","木曜",null,"金曜","土曜","日曜","祝日","毎日"]
[null," １全日 ２午前"]
[null," ３午後 ４夜間"]
[23,"指導可能地域",null,{"$f":"入力シート!C32","v":0}]
[null,null,null,"その他：",{"$f":"入力シート!C33","v":0}]
[24,"報酬の希望等",null,{"$f":"入力シート!C34","v":0}]
[null,null,null,"１時間あたり",null,{"$f":"入力シート!C35","v":0},null,"円"]
[25,"登録認定要件",null,{"$f":"入力シート!C36","v":0}]
[null,"登録認定研修会受講",null,"研修会名:",null,{"$f":"入力シート!C37","v":0}]
[null,null,null,"受講日:",null,{"$f":"入力シート!C38","v":"00:00:00"}]
[null,"　　このバンク登録申請書における個人情報は、個人情報の保護に関する法律(平成15年法律第57号)"]
[null,"　に従い、厳正に取り扱うと共に、指導者紹介依頼者とのマッチングにおいて、（公財）静岡県体育"]
[null,"　協会の職員が使用します。"]
[null,"　　HPへの掲載は、どのようにしますか。"]
[26,"　  番号 3,4,6,13,16(資格名のみ）,20～24の情報をHPに掲載することを承諾する。"]
[null,"　  HPへの掲載は、承諾しない。"]
["＜事務局記載欄＞＊こちらは事務局活用欄になりますので、記載の必要はありません。"]
["◎認定状況"]
["氏名",null,{"$f":"入力シート!C5","v":0},null,null,"認定番号"]
["登録認定日",null,"　　/　　/　　",null,"有効期限",null,{"$f":"入力シート!C22","v":"00:00:00"},null,null,"認定書送付",null,"　　/　　/　　"]
[]
["更新状況",null,"更新日",null,"有効期限",null,"認定書送付",null,null,"更新要件"]
[null,"更新①","　　　/　　/　　　",null,"　　　/　　/　　　",null,"　　/　　/　　"]
[null,"更新②","　　　/　　/　　　",null,"　　　/　　/　　　",null,"　　/　　/　　"]
[null,"更新③","　　　/　　/　　　",null,"　　　/　　/　　　",null,"　　/　　/　　"]
[null,"更新④","　　　/　　/　　　",null,"　　　/　　/　　　",null,"　　/　　/　　"]
[null,"更新⑤","　　　/　　/　　　",null,"　　　/　　/　　　",null,"　　/　　/　　"]
[null,null,"　　　/　　/　　　",null,"　　　/　　/　　　",null,"　　/　　/　　"]
[null,null,"　　　/　　/　　　",null,"　　　/　　/　　　",null,"　　/　　/　　"]
[]
["◎公認指導者資格の状況"]
["指導者番号",null,{"$f":"入力シート!C21","v":0},null,"取得年月日",null,"　　/　　/　　"]
[]
["更新状況","資格の名称",null,null,null,null,"有効期間",null,null,"状況"]
[null,null,null,null,null,null,{"$f":"入力シート!C22","v":"00:00:00"}]
[null,null,null,null,null,null,"　　/　　/　　"]
[null,null,null,null,null,null,"　　/　　/　　"]
[null,null,null,null,null,null,"　　/　　/　　"]
[null,null,null,null,null,null,"　　/　　/　　"]
[null,null,null,null,null,null,"　　/　　/　　"]
[]
["◎部活動指導状況"]
["区分",null,null,"実施年度"]
["エキスパート"]
["部活動指導員"]
[]
["◎マッチングの状況"]
[null,"年度","対　　象",null,null,null,"結果",null,null,"備　　考"]
[]
[]
[]
[]
[]
[]
["備考"]

{"sheet":"インポートシート","index":2,"n_rows":2,"n_cols":47,"rows_kept":2,"cut":false,"hidden":false,"merged":[]}
["認定番号","提出日","氏名","フリガナ","性別","生年(西暦)","郵便番号","都道府県","住所１（市・区・町）","住所２（それ以降）","住所３（アパート等）","E-mailｱﾄﾞﾚｽ","自宅電話番号","携帯番号","携帯mailアドレス","職業","勤務先","職業その他（記載）","主要競技名","その他競技名","競技歴","主な指導歴","所有指導資格","その他の資格","その他の資格（記載）","資格（記載）","指導可能対象","指導可能区分","月曜","火曜","水曜","木曜","金曜","土曜","日曜","祝日","毎日","新指導可能地域","地域（記載）","報酬","報酬（記載）","指導に関するPR","JSPO番号","有効期限日","情報同意","登録認定要件","要件詳細"]
[null,null,{"$f":"入力シート!C5","v":0},{"$f":"入力シート!C6","v":0},{"$f":"入力シート!C7","v":0},null,{"$f":"入力シート!C9","v":0},null,{"$f":"入力シート!C10","v":0},{"$f":"入力シート!C11","v":0},{"$f":"入力シート!C12","v":0},{"$f":"入力シート!C15","v":0},{"$f":"入力シート!C13","v":0},{"$f":"入力シート!C14","v":0},null,{"$f":"入力シート!C24","v":0},{"$f":"入力シート!C16","v":0},{"$f":"入力シート!C25","v":0},null,null,{"$f":"入力シート!C18","v":0},{"$f":"入力シート!C19","v":0},null,null,{"$f":"入力シート!C27","v":0},null,null,null,{"$f":"データチェック!H4","v":""},{"$f":"データチェック!H5","v":""},{"$f":"データチェック!H6","v":""},{"$f":"データチェック!H7","v":""},{"$f":"データチェック!H8","v":""},{"$f":"データチェック!H9","v":""},{"$f":"データチェック!H10","v":""},{"$f":"データチェック!H11","v":""},{"$f":"データチェック!H12","v":""},{"$f":"入力シート!C32","v":0},{"$f":"入力シート!C33","v":0},{"$f":"入力シート!C34","v":0},{"$f":"入力シート!C35","v":0},{"$f":"入力シート!C23","v":0},{"$f":"入力シート!C21","v":0},{"$f":"入力シート!C22","v":"00:00:00"},{"$f":"データチェック!H14","v":""},{"$f":"入力シート!C36","v":0},{"$f":"入力シート!C37&\"(\"&入力シート!C38&\")\"","v":"()"}]

{"sheet":"リストシート","index":3,"n_rows":94,"n_cols":24,"rows_kept":94,"cut":false,"hidden":false,"merged":[]}
["性別","生年","ID","職業","ID","主要競技","ID","対象","ID","区分","ID","資格","ID","時間帯","可能地域","報酬","その他資格","ID","情報同意",null,"都道府県",null,"登録認定要件","ID"]
[]
["男性",1925,1,"会社員",1,"陸上競技",1,"幼児",1,"競技スポーツ",1,"（日本スポーツ協会公認）競技別コーチ１",1,"全日","居住地","謝金を希望する","あん摩マッサージ指圧師",1,"同意する",null,"北海道",null,"県スポーツ協会が推薦した者","県スポーツ協会が推薦した者"]
["女性",1926,2,"自営業",2,"競泳",2,"児童",2,"生涯スポーツ",2,"（日本スポーツ協会公認）競技別コーチ２",2,"午前","居住地及び居住地隣接市町","ボランティア","医師",2,null,null,"青森県",null,"県教委が推薦した者","県教委が推薦した者"]
[null,1927,3,"専門職",3,"飛込",3,"中学生男子",3,"レジャー・レクリエーション",3,"（日本スポーツ協会公認）競技別コーチ３",3,"午後","その他","依頼者と交渉する","ウォーキング指導員",3,null,null,"岩手県",null,"競技団体が推薦した者","競技団体が推薦した者"]
[null,1928,4,"公務員",4,"水球",4,"中学生女子",4,"講習会講師",4,"（日本スポーツ協会公認）競技別コーチ４",4,"夜間",null,null,"栄養士",4,null,null,"宮城県",null,"学校長が推薦した者","学校長が推薦した者"]
[null,1929,5,"学生",5,"アーティスティックスイミング",5,"高校生男子",5,"学校部活動",5,"（日本スポーツ協会公認）競技別教師",5,"午前,午後",null,null,"看護師",5,null,null,"秋田県",null,"日本スポーツ協会等の公認指導者","日本スポーツ協会等の公認指導者"]
[null,1930,6,"主婦(夫)",6,"オープンウォータースイミング",6,"高校生女子",6,"審判員",6,"（日本スポーツ協会公認）競技別上級教師",6,"午後,夜間",null,null,"管理栄養士",6,null,null,"山形県",null,"外部指導者経験者","外部指導者経験者"]
[null,1931,7,"教員",10,"テニス",7,"一般男子",7,"学校体育",7,"（日本スポーツ協会公認）ジュニアスポーツ指導員",7,"午前,夜間",null,null,"救急救命士",7,null,null,"福島県",null,"教員免許保持者","教員免許保持者"]
[null,1932,8,"団体職員",11,"ソフトテニス",8,"一般女子",8,"スポーツ医・科学",8,"（日本スポーツ協会公認）スポーツプログラマー",8,null,null,null,"救急法救急員",8,null,null,"茨城県",null,"登録認定研修会の受講者","登録認定研修会の受講者"]
[null,1933,9,"ﾊﾟｰﾄ・ｱﾙﾊﾞｲﾄ",7,"バドミントン",9,"高齢者男子",9,"スポーツマネージャー",9,"（日本スポーツ協会公認）スポーツドクター",9,null,null,null,"きゅう師",9,null,null,"栃木県"]
[null,1934,10,"無職",8,"体操",10,"高齢者女子",10,"その他",10,"（日本スポーツ協会公認）スポーツデンティスト",10,null,null,null,"教員免許",10,null,null,"群馬県"]
[null,1935,11,"その他",9,"新体操",11,"障がい者男子",11,null,null,"（日本スポーツ協会公認）アストレティックトレーナー",11,null,null,null,"競技審判資格",11,null,null,"埼玉県"]
[null,1936,12,null,null,"トランポリン",12,"障がい者女子",12,null,null,"（日本スポーツ協会公認）スポーツ栄養士",12,null,null,null,"健康運動実践指導者",12,null,null,"千葉県"]
[null,1937,13,null,null,"卓球",13,null,null,null,null,"（日本スポーツ協会公認）アシスタントマネジャー",13,null,null,null,"健康運動指導士",13,null,null,"東京都"]
[null,1938,14,null,null,"バレーボール",14,null,null,null,null,"（日本スポーツ協会公認）クラブマネジャー",14,null,null,null,"健康スポーツ医",14,null,null,"神奈川県"]
[null,1939,15,null,null,"バスケットボール",15,null,null,null,null,"（日本スポーツ協会公認）スポーツリーダー",15,null,null,null,"高齢者体力つくり支援士",15,null,null,"新潟県"]
[null,1940,16,null,null,"サッカー",16,null,null,null,null,"スポーツ推進員",16,null,null,null,"柔道整復師",16,null,null,"富山県"]
[null,1941,17,null,null,"ハンドボール",17,null,null,null,null,"民間スポーツインストラクター",17,null,null,null,"障害者スポーツ指導員",17,null,null,"石川県"]
[null,1942,18,null,null,"軟式野球",18,null,null,null,null,"競技別指導資格保持者",18,null,null,null,"障害者スポーツ指導員スポーツコーチ",18,null,null,"福井県"]
[null,1943,19,null,null,"硬式野球",19,null,null,null,null,"競技別段位資格保持者",19,null,null,null,"スポーツ系大学教授等",19,null,null,"山梨県"]
[null,1944,20,null,null,"ソフトボール",20,null,null,null,null,"（日本スポーツ協会公認）競技別スタートコーチ",20,null,null,null,"スポーツトレーナー",20,null,null,"長野県"]
[null,1945,21,null,null,"ラクビーフットボール",21,null,null,null,null,"（日本スポーツ協会公認）少年団スタートコーチ",21,null,null,null,"トレーニング指導士",21,null,null,"岐阜県"]
[null,1946,22,null,null,"剣道",22,null,null,null,null,"（日本スポーツ協会公認）スポーツトレーナー",22,null,null,null,"はり師",22,null,null,"静岡県"]
[null,1947,23,null,null,"柔道",23,null,null,null,null,"（日本スポーツ協会公認）フィットネストレーナー",23,null,null,null,"ファーマシスト",23,null,null,"愛知県"]
[null,1948,24,null,null,"相撲",24,null,null,null,null,"（日本スポーツ協会公認）コーチングアシスタント",24,null,null,null,"フィットネストレーナー",24,null,null,"三重県"]
[null,1949,25,null,null,"弓道",25,null,null,null,null,null,null,null,null,null,"理学療法士",25,null,null,"滋賀県"]
[null,1950,26,null,null,"空手道",26,null,null,null,null,null,null,null,null,null,"臨床心理士",26,null,null,"京都府"]
[null,1951,27,null,null,"山岳",27,null,null,null,null,null,null,null,null,null,"その他",27,null,null,"大阪府"]
[null,1952,28,null,null,"ボート",28,null,null,null,null,null,null,null,null,null,null,null,null,null,"兵庫県"]
[null,1953,29,null,null,"カヌー",29,null,null,null,null,null,null,null,null,null,null,null,null,null,"奈良県"]
[null,1954,30,null,null,"セーリング",30,null,null,null,null,null,null,null,null,null,null,null,null,null,"和歌山県"]
[null,1955,31,null,null,"ウェイトリフティング",31,null,null,null,null,null,null,null,null,null,null,null,null,null,"鳥取県"]
[null,1956,32,null,null,"フェンシング",32,null,null,null,null,null,null,null,null,null,null,null,null,null,"島根県"]
[null,1957,33,null,null,"レスリング",33,null,null,null,null,null,null,null,null,null,null,null,null,null,"岡山県"]
[null,1958,34,null,null,"なぎなた",34,null,null,null,null,null,null,null,null,null,null,null,null,null,"広島県"]
[null,1959,35,null,null,"自転車",35,null,null,null,null,null,null,null,null,null,null,null,null,null,"山口県"]
[null,1960,36,null,null,"ホッケー",36,null,null,null,null,null,null,null,null,null,null,null,null,null,"徳島県"]
[null,1961,37,null,null,"ボクシング",37,null,null,null,null,null,null,null,null,null,null,null,null,null,"香川県"]
[null,1962,38,null,null,"アーチェリー",38,null,null,null,null,null,null,null,null,null,null,null,null,null,"愛媛県"]
[null,1963,39,null,null,"スケート",39,null,null,null,null,null,null,null,null,null,null,null,null,null,"高知県"]
[null,1964,40,null,null,"スキー",40,null,null,null,null,null,null,null,null,null,null,null,null,null,"福岡県"]
[null,1965,41,null,null,"アイスホッケー",41,null,null,null,null,null,null,null,null,null,null,null,null,null,"佐賀県"]
[null,1966,42,null,null,"少林寺拳法",42,null,null,null,null,null,null,null,null,null,null,null,null,null,"長崎県"]
[null,1967,43,null,null,"ボウリング",43,null,null,null,null,null,null,null,null,null,null,null,null,null,"熊本県"]
[null,1968,44,null,null,"馬術",44,null,null,null,null,null,null,null,null,null,null,null,null,null,"大分県"]
[null,1969,45,null,null,"ゴルフ",45,null,null,null,null,null,null,null,null,null,null,null,null,null,"宮崎県"]
[null,1970,46,null,null,"クレー射撃",46,null,null,null,null,null,null,null,null,null,null,null,null,null,"鹿児島県"]
[null,1971,47,null,null,"ライフル射撃",47,null,null,null,null,null,null,null,null,null,null,null,null,null,"沖縄県"]
[null,1972,48,null,null,"銃剣道",48]
[null,1973,49,null,null,"トライスロン",49]
[null,1974,50,null,null,"綱引",50]
[null,1975,51,null,null,"ゲートボール",51]
[null,1976,52,null,null,"パワーリフティング",52]
[null,1977,53,null,null,"グラウンド・ゴルフ",53]
[null,1978,54,null,null,"武術太極拳",54]
[null,1979,55,null,null,"ダンススポーツ",55]
[null,1980,56,null,null,"バウンドテニス",56]
[null,1981,57,null,null,"キックボクシング",57]
[null,1982,58,null,null,"ヨガ",58]
[null,1983,59,null,null,"スポーツクライミング",59]
[null,1984,60,null,null,"エアロビック",60]
[null,1985,61,null,null,"ジュニアスポーツ",61]
[null,1986,62,null,null,"スポーツプログラマー",62]
[null,1987,63,null,null,"アシスタントマネージャー",63]
[null,1988,64,null,null,"近代五種",64]
[null,1989,65,null,null,"アメリカンフットボール",65]
[null,1990,66,null,null,"チアリーディング",66]
[null,1991,67,null,null,"サーフィン",67]
[null,1992,68,null,null,"競技かるた",68]
[null,1993,69]
[null,1994,70]
[null,1995,71]
[null,1996,72]
[null,1997,73]
[null,1998,74]
[null,1999,75]
[null,2000,76]
[null,2001,77]
[null,2002,78]
[null,2003,79]
[null,2004,80]
[null,2005,81]
[null,2006,82]
[null,2007,83]
[null,2008,84]
[null,2009,85]
[null,2010,86]
[null,2011,87]
[null,2012,88]
[null,2013,89]
[null,2014,90]
[null,2015,91]
[null,2016,92]

{"sheet":"データチェック","index":4,"n_rows":15,"n_cols":8,"rows_kept":15,"cut":false,"hidden":false,"merged":[[0,2,0,5]]}
[null,null,"チェックボックスの判定",null,null,null,null,"インポートシートへの反映"]
[]
["指導可能日時",null,"全日","午前","午後","夜間"]
[null,"月",false,false,false,false,null,{"$f":"IF(C4=TRUE,\"全日;\",\"\")&IF(D4=TRUE,\"午前;\",\"\")&IF(E4=TRUE,\"午後;\",\"\")&IF(F4=TRUE,\"夜間;\",\"\")","v":""}]
[null,"火",false,false,false,false,null,{"$f":"IF(C5=TRUE,\"全日;\",\"\")&IF(D5=TRUE,\"午前;\",\"\")&IF(E5=TRUE,\"午後;\",\"\")&IF(F5=TRUE,\"夜間;\",\"\")","v":""}]
[null,"水",false,false,false,false,null,{"$f":"IF(C6=TRUE,\"全日;\",\"\")&IF(D6=TRUE,\"午前;\",\"\")&IF(E6=TRUE,\"午後;\",\"\")&IF(F6=TRUE,\"夜間;\",\"\")","v":""}]
[null,"木",false,false,false,false,null,""]
[null,"金",false,false,false,false,null,""]
[null,"土",false,false,false,false,null,""]
[null,"日",false,false,false,false,null,""]
[null,"祝",false,false,false,false,null,""]
[null,"毎日",false,false,false,false,null,""]
[]
["情報公開","同意する",false,null,null,null,null,{"$f":"IF(C14=TRUE,\"同意する\",IF(C15=TRUE,\"同意しない\",\"\"))","v":""}]
[null,"同意しない",false]